BEGIN:VCALENDAR
VERSION:2.0
PRODID:icalendar-ruby
CALSCALE:GREGORIAN
METHOD:PUBLISH
BEGIN:VEVENT
DTSTAMP:20260420T143730Z
UID:fd2ec3d3-3f8b-4df6-8da3-c21e3d3a2a17
DTSTART;VALUE=DATE:20201028
DTEND;VALUE=DATE:20201028
DESCRIPTION:Peninsula Indoor BMX
LOCATION:5867 Dogwood Road Se  Port Orchard WA 98367 USA
SUMMARY:Practice
URL:/site/bmx_races/448359
END:VEVENT
END:VCALENDAR
