BEGIN:VCALENDAR
VERSION:2.0
PRODID:icalendar-ruby
CALSCALE:GREGORIAN
METHOD:PUBLISH
BEGIN:VEVENT
DTSTAMP:20260423T233114Z
UID:ee50564d-b4fc-40c5-9566-cabbd2dd3afa
DTSTART;VALUE=DATE:20201024
DTEND;VALUE=DATE:20201024
DESCRIPTION:Marysville BMX
LOCATION:618 N Main St  Marysville OH 43040 USA
SUMMARY:Practice
URL:/site/bmx_races/448457
END:VEVENT
END:VCALENDAR
