BEGIN:VCALENDAR
VERSION:2.0
PRODID:icalendar-ruby
CALSCALE:GREGORIAN
METHOD:PUBLISH
BEGIN:VEVENT
DTSTAMP:20260424T184216Z
UID:a3773675-23f1-4e3f-9d99-a02434f5fcd6
DTSTART;VALUE=DATE:20201011
DTEND;VALUE=DATE:20201011
DESCRIPTION:Richmond BMX
LOCATION:4401 Hobbs Lane   Next To Church Richmond VA 23231 USA
SUMMARY:Final Triple
URL:/site/bmx_races/448582
END:VEVENT
END:VCALENDAR
