BEGIN:VCALENDAR
VERSION:2.0
PRODID:icalendar-ruby
CALSCALE:GREGORIAN
METHOD:PUBLISH
BEGIN:VEVENT
DTSTAMP:20260421T153144Z
UID:f1c28849-a305-43eb-a68f-84b1ed180c86
DTSTART;VALUE=DATE:20210608
DTEND;VALUE=DATE:20210608
DESCRIPTION:Blanchard Woods BMX
LOCATION:4600 Blanchard Woods Drive  Evans GA 30809 USA
SUMMARY:Non-Riding Event
URL:/site/bmx_races/448616
END:VEVENT
END:VCALENDAR
