BEGIN:VCALENDAR
VERSION:2.0
PRODID:icalendar-ruby
CALSCALE:GREGORIAN
METHOD:PUBLISH
BEGIN:VEVENT
DTSTAMP:20260421T190642Z
UID:9b72d4cb-16ff-441f-a172-3b2aaf53e3d4
DTSTART;VALUE=DATE:20210406
DTEND;VALUE=DATE:20210406
DESCRIPTION:Blanchard Woods BMX
LOCATION:4600 Blanchard Woods Drive  Evans GA 30809 USA
SUMMARY:Practice
URL:/site/bmx_races/448630
END:VEVENT
END:VCALENDAR
