BEGIN:VCALENDAR
VERSION:2.0
PRODID:icalendar-ruby
CALSCALE:GREGORIAN
METHOD:PUBLISH
BEGIN:VEVENT
DTSTAMP:20260423T193510Z
UID:bbe6eeea-6863-4e74-884b-7e62535f1ecd
DTSTART;VALUE=DATE:20210324
DTEND;VALUE=DATE:20210324
DESCRIPTION:Boulder BMX\, Inc
LOCATION:1799 Commons Way  Boulder City NV 89005 USA
SUMMARY:Practice
URL:/site/bmx_races/448775
END:VEVENT
END:VCALENDAR
