BEGIN:VCALENDAR
VERSION:2.0
PRODID:icalendar-ruby
CALSCALE:GREGORIAN
METHOD:PUBLISH
BEGIN:VEVENT
DTSTAMP:20260423T161047Z
UID:ce94d9c0-8a53-4f38-bb0a-9020faac89cb
DTSTART;VALUE=DATE:20210512
DTEND;VALUE=DATE:20210512
DESCRIPTION:Boulder BMX\, Inc
LOCATION:1799 Commons Way  Boulder City NV 89005 USA
SUMMARY:Practice
URL:/site/bmx_races/448791
END:VEVENT
END:VCALENDAR
