BEGIN:VCALENDAR
VERSION:2.0
PRODID:icalendar-ruby
CALSCALE:GREGORIAN
METHOD:PUBLISH
BEGIN:VEVENT
DTSTAMP:20260423T143803Z
UID:b4edca63-c415-49af-a5f7-b815b23c6d8d
DTSTART;VALUE=DATE:20210602
DTEND;VALUE=DATE:20210602
DESCRIPTION:Boulder BMX\, Inc
LOCATION:1799 Commons Way  Boulder City NV 89005 USA
SUMMARY:Practice
URL:/site/bmx_races/448797
END:VEVENT
END:VCALENDAR
