BEGIN:VCALENDAR
VERSION:2.0
PRODID:icalendar-ruby
CALSCALE:GREGORIAN
METHOD:PUBLISH
BEGIN:VEVENT
DTSTAMP:20260423T143816Z
UID:b5ff5345-ab54-4567-81d6-c1111d0ea0a8
DTSTART;VALUE=DATE:20210604
DTEND;VALUE=DATE:20210604
DESCRIPTION:Boulder BMX\, Inc
LOCATION:1799 Commons Way  Boulder City NV 89005 USA
SUMMARY:Local Race Single
URL:/site/bmx_races/448798
END:VEVENT
END:VCALENDAR
