BEGIN:VCALENDAR
VERSION:2.0
PRODID:icalendar-ruby
CALSCALE:GREGORIAN
METHOD:PUBLISH
BEGIN:VEVENT
DTSTAMP:20260423T143806Z
UID:0be6e13d-fdbe-4cee-8975-427e4cf011ff
DTSTART;VALUE=DATE:20210630
DTEND;VALUE=DATE:20210630
DESCRIPTION:Boulder BMX\, Inc
LOCATION:1799 Commons Way  Boulder City NV 89005 USA
SUMMARY:Practice
URL:/site/bmx_races/448805
END:VEVENT
END:VCALENDAR
