BEGIN:VCALENDAR
VERSION:2.0
PRODID:icalendar-ruby
CALSCALE:GREGORIAN
METHOD:PUBLISH
BEGIN:VEVENT
DTSTAMP:20260423T055336Z
UID:19a4f70c-7fda-473d-8e71-9061c838a97b
DTSTART;VALUE=DATE:20211119
DTEND;VALUE=DATE:20211119
DESCRIPTION:Boulder BMX\, Inc
LOCATION:1799 Commons Way  Boulder City NV 89005 USA
SUMMARY:Local Race Single
URL:/site/bmx_races/448846
END:VEVENT
END:VCALENDAR
