BEGIN:VCALENDAR
VERSION:2.0
PRODID:icalendar-ruby
CALSCALE:GREGORIAN
METHOD:PUBLISH
BEGIN:VEVENT
DTSTAMP:20260425T112209Z
UID:ceebd600-177c-4135-9c2b-0729022d633e
DTSTART;VALUE=DATE:20210425
DTEND;VALUE=DATE:20210425
DESCRIPTION:Rum River BMX
LOCATION:Isanti Parkway Northwest  Isanti MN 55040 USA
SUMMARY:Gold Cup Qualifier Triple
URL:/site/bmx_races/448954
END:VEVENT
END:VCALENDAR
