BEGIN:VCALENDAR
VERSION:2.0
PRODID:icalendar-ruby
CALSCALE:GREGORIAN
METHOD:PUBLISH
BEGIN:VEVENT
DTSTAMP:20260421T075333Z
UID:4d80d306-5544-49e6-9af0-9e4a572cdcf7
DTSTART;VALUE=DATE:20211111
DTEND;VALUE=DATE:20211111
DESCRIPTION:Blanchard Woods BMX
LOCATION:4600 Blanchard Woods Drive  Evans GA 30809 USA
SUMMARY:Practice
URL:/site/bmx_races/449826
END:VEVENT
END:VCALENDAR
