BEGIN:VCALENDAR
VERSION:2.0
PRODID:icalendar-ruby
CALSCALE:GREGORIAN
METHOD:PUBLISH
BEGIN:VEVENT
DTSTAMP:20260419T150712Z
UID:b82f3560-52dd-4c07-acef-b9b359fa2233
DTSTART;VALUE=DATE:20210404
DTEND;VALUE=DATE:20210404
DESCRIPTION:Pearland BMX
LOCATION:5657 Morning Dove Ln  Alvin TX 77511 USA
SUMMARY:State Race Double
URL:/site/bmx_races/450598
END:VEVENT
END:VCALENDAR
