BEGIN:VCALENDAR
VERSION:2.0
PRODID:icalendar-ruby
CALSCALE:GREGORIAN
METHOD:PUBLISH
BEGIN:VEVENT
DTSTAMP:20260421T024208Z
UID:24b67e52-42ea-4590-bfd1-b0444f373b12
DTSTART;VALUE=DATE:20210403
DTEND;VALUE=DATE:20210403
DESCRIPTION:Grand Valley BMX
LOCATION:2785 U.S. Highway 50  Grand Junction CO 81503 USA
SUMMARY:Track Rental
URL:/site/bmx_races/450981
END:VEVENT
END:VCALENDAR
