BEGIN:VCALENDAR
VERSION:2.0
PRODID:icalendar-ruby
CALSCALE:GREGORIAN
METHOD:PUBLISH
BEGIN:VEVENT
DTSTAMP:20260423T103629Z
UID:32147edc-876d-4f99-be1e-58be57bb0176
DTSTART;VALUE=DATE:20210625
DTEND;VALUE=DATE:20210625
DESCRIPTION:Marysville BMX
LOCATION:618 N Main St  Marysville OH 43040 USA
SUMMARY:Practice
URL:/site/bmx_races/451025
END:VEVENT
END:VCALENDAR
