BEGIN:VCALENDAR
VERSION:2.0
PRODID:icalendar-ruby
CALSCALE:GREGORIAN
METHOD:PUBLISH
BEGIN:VEVENT
DTSTAMP:20260423T100051Z
UID:9e638080-d588-4faa-9a61-dc7357f679db
DTSTART;VALUE=DATE:20210912
DTEND;VALUE=DATE:20210912
DESCRIPTION:Central Wisconsin BMX
LOCATION:2220 E Riverview Expy\,  Wisconsin Rapids WI 54494 USA
SUMMARY:Local Race Single
URL:/site/bmx_races/451477
END:VEVENT
END:VCALENDAR
