BEGIN:VCALENDAR
VERSION:2.0
PRODID:icalendar-ruby
CALSCALE:GREGORIAN
METHOD:PUBLISH
BEGIN:VEVENT
DTSTAMP:20260422T023337Z
UID:0a6640f0-b1e0-42f4-b329-786b481999a4
DTSTART;VALUE=DATE:20201121
DTEND;VALUE=DATE:20201121
DESCRIPTION:Blanchard Woods BMX
LOCATION:4600 Blanchard Woods Drive  Evans GA 30809 USA
SUMMARY:Clinic
URL:/site/bmx_races/451480
END:VEVENT
END:VCALENDAR
