BEGIN:VCALENDAR
VERSION:2.0
PRODID:icalendar-ruby
CALSCALE:GREGORIAN
METHOD:PUBLISH
BEGIN:VEVENT
DTSTAMP:20260422T013220Z
UID:b09edd84-4fbb-49d3-a54e-da6e58d12e9e
DTSTART;VALUE=DATE:20210123
DTEND;VALUE=DATE:20210123
DESCRIPTION:Hornet`s Nest BMX
LOCATION:6301 Beatties Ford Rd  Charlotte NC 28216 USA
SUMMARY:Local Race Single
URL:/site/bmx_races/451626
END:VEVENT
END:VCALENDAR
