BEGIN:VCALENDAR
VERSION:2.0
PRODID:icalendar-ruby
CALSCALE:GREGORIAN
METHOD:PUBLISH
BEGIN:VEVENT
DTSTAMP:20260422T001110Z
UID:1c8296c0-72df-4acf-a865-b1ae505f37ad
DTSTART;VALUE=DATE:20210213
DTEND;VALUE=DATE:20210213
DESCRIPTION:Hornet`s Nest BMX
LOCATION:6301 Beatties Ford Rd  Charlotte NC 28216 USA
SUMMARY:Local Race Single
URL:/site/bmx_races/451629
END:VEVENT
END:VCALENDAR
