BEGIN:VCALENDAR
VERSION:2.0
PRODID:icalendar-ruby
CALSCALE:GREGORIAN
METHOD:PUBLISH
BEGIN:VEVENT
DTSTAMP:20260421T212829Z
UID:7be4ed15-e902-4295-9afa-dea02cc8e1ce
DTSTART;VALUE=DATE:20210306
DTEND;VALUE=DATE:20210306
DESCRIPTION:Hornet`s Nest BMX
LOCATION:6301 Beatties Ford Rd  Charlotte NC 28216 USA
SUMMARY:Local Race Single
URL:/site/bmx_races/451632
END:VEVENT
END:VCALENDAR
