BEGIN:VCALENDAR
VERSION:2.0
PRODID:icalendar-ruby
CALSCALE:GREGORIAN
METHOD:PUBLISH
BEGIN:VEVENT
DTSTAMP:20260424T041604Z
UID:8296a4f8-453b-4a41-92aa-712ccc5857ad
DTSTART;VALUE=DATE:20210724
DTEND;VALUE=DATE:20210724
DESCRIPTION:Horseheads BMX
LOCATION:190 Wygant Rd  Horseheads NY 14845 USA
SUMMARY:State Race Triple
URL:/site/bmx_races/451684
END:VEVENT
END:VCALENDAR
