BEGIN:VCALENDAR
VERSION:2.0
PRODID:icalendar-ruby
CALSCALE:GREGORIAN
METHOD:PUBLISH
BEGIN:VEVENT
DTSTAMP:20260423T034404Z
UID:5ab02c79-acd5-4393-a6e8-f1885fec774e
DTSTART;VALUE=DATE:20201118
DTEND;VALUE=DATE:20201118
DESCRIPTION:Grand Prix BMX at SoCal Fair
LOCATION:18700 Lake Perris Dr  Perris CA 92571 USA
SUMMARY:Standard Single Single
URL:/site/bmx_races/452115
END:VEVENT
END:VCALENDAR
