BEGIN:VCALENDAR
VERSION:2.0
PRODID:icalendar-ruby
CALSCALE:GREGORIAN
METHOD:PUBLISH
BEGIN:VEVENT
DTSTAMP:20260423T100014Z
UID:ec16954d-2530-4b8d-9e8f-c66e71cdcdeb
DTSTART;VALUE=DATE:20210830
DTEND;VALUE=DATE:20210830
DESCRIPTION:Razor City BMX
LOCATION:200 Pumphouse Ln  Gillette WY 82716 USA
SUMMARY:Local Race Single
URL:/site/bmx_races/452186
END:VEVENT
END:VCALENDAR
