BEGIN:VCALENDAR
VERSION:2.0
PRODID:icalendar-ruby
CALSCALE:GREGORIAN
METHOD:PUBLISH
BEGIN:VEVENT
DTSTAMP:20260423T123850Z
UID:8f546791-aa4d-4c28-b0cf-641d217a79a7
DTSTART;VALUE=DATE:20210615
DTEND;VALUE=DATE:20210615
DESCRIPTION:Brighton BMX
LOCATION:414 N Maple St  Brighton IL 62012 USA
SUMMARY:Local Race Single
URL:/site/bmx_races/452252
END:VEVENT
END:VCALENDAR
