BEGIN:VCALENDAR
VERSION:2.0
PRODID:icalendar-ruby
CALSCALE:GREGORIAN
METHOD:PUBLISH
BEGIN:VEVENT
DTSTAMP:20260424T140719Z
UID:ab0176a9-3ce8-4b07-bb03-9fc8ab763a5c
DTSTART;VALUE=DATE:20210718
DTEND;VALUE=DATE:20210718
DESCRIPTION:Akron BMX
LOCATION:800 Derby Downs Drive  Akron OH 44306 USA
SUMMARY:Local Race Single
URL:/site/bmx_races/452552
END:VEVENT
END:VCALENDAR
