BEGIN:VCALENDAR
VERSION:2.0
PRODID:icalendar-ruby
CALSCALE:GREGORIAN
METHOD:PUBLISH
BEGIN:VEVENT
DTSTAMP:20260420T232325Z
UID:d14f0d61-708b-4873-a252-c6e25d8540ae
DTSTART;VALUE=DATE:20210617
DTEND;VALUE=DATE:20210617
DESCRIPTION:Grand Valley BMX
LOCATION:2785 U.S. Highway 50  Grand Junction CO 81503 USA
SUMMARY:Clinic
URL:/site/bmx_races/452994
END:VEVENT
END:VCALENDAR
