BEGIN:VCALENDAR
VERSION:2.0
PRODID:icalendar-ruby
CALSCALE:GREGORIAN
METHOD:PUBLISH
BEGIN:VEVENT
DTSTAMP:20260419T181244Z
UID:bf294a55-0815-4a98-a72f-1523eb429093
DTSTART;VALUE=DATE:20210807
DTEND;VALUE=DATE:20210807
DESCRIPTION:Peachtree BMX
LOCATION:195 Mc Intosh Trail  Peachtree City GA 30269 USA
SUMMARY:Warnicke Double
URL:/site/bmx_races/453543
END:VEVENT
END:VCALENDAR
