BEGIN:VCALENDAR
VERSION:2.0
PRODID:icalendar-ruby
CALSCALE:GREGORIAN
METHOD:PUBLISH
BEGIN:VEVENT
DTSTAMP:20260424T011429Z
UID:3e6eaeb3-8c6b-4e95-a60b-f4950636f683
DTSTART;VALUE=DATE:20201111
DTEND;VALUE=DATE:20201111
DESCRIPTION:Southern Maryland BMX
LOCATION:26600 Budds Creek Rd  Mechanicsville MD 20659 USA
SUMMARY:Standard Single Single
URL:/site/bmx_races/453968
END:VEVENT
END:VCALENDAR
