BEGIN:VCALENDAR
VERSION:2.0
PRODID:icalendar-ruby
CALSCALE:GREGORIAN
METHOD:PUBLISH
BEGIN:VEVENT
DTSTAMP:20260424T004123Z
UID:e28bede8-a9e6-45de-9c5d-4c650ab14b98
DTSTART;VALUE=DATE:20210709
DTEND;VALUE=DATE:20210709
DESCRIPTION:Black Mountain BMX
LOCATION:24024 N 11th St  Phoenix AZ 85024 USA
SUMMARY:Local Race Single
URL:/site/bmx_races/454153
END:VEVENT
END:VCALENDAR
