BEGIN:VCALENDAR
VERSION:2.0
PRODID:icalendar-ruby
CALSCALE:GREGORIAN
METHOD:PUBLISH
BEGIN:VEVENT
DTSTAMP:20260425T234656Z
UID:778b756b-7232-4dc1-a8b6-2f2330e6b106
DTSTART;VALUE=DATE:20211001
DTEND;VALUE=DATE:20211001
DESCRIPTION:Black Mountain BMX
LOCATION:24024 N 11th St  Phoenix AZ 85024 USA
SUMMARY:Local Race Single
URL:/site/bmx_races/454189
END:VEVENT
END:VCALENDAR
