BEGIN:VCALENDAR
VERSION:2.0
PRODID:icalendar-ruby
CALSCALE:GREGORIAN
METHOD:PUBLISH
BEGIN:VEVENT
DTSTAMP:20260422T023336Z
UID:80227120-8bdf-41b4-b86c-42a618a62a2a
DTSTART;VALUE=DATE:20210105
DTEND;VALUE=DATE:20210105
DESCRIPTION:Ed Fountain Park BMX Raceway
LOCATION:1400 N Decatur Blvd  Las Vegas NV 89108 USA
SUMMARY:Local Race Single
URL:/site/bmx_races/454899
END:VEVENT
END:VCALENDAR
