BEGIN:VCALENDAR
VERSION:2.0
PRODID:icalendar-ruby
CALSCALE:GREGORIAN
METHOD:PUBLISH
BEGIN:VEVENT
DTSTAMP:20260422T023446Z
UID:aaad982c-a0c2-4f82-ba5d-892075da8030
DTSTART;VALUE=DATE:20210113
DTEND;VALUE=DATE:20210113
DESCRIPTION:Ed Fountain Park BMX Raceway
LOCATION:1400 N Decatur Blvd  Las Vegas NV 89108 USA
SUMMARY:Clinic
URL:/site/bmx_races/455248
END:VEVENT
END:VCALENDAR
