BEGIN:VCALENDAR
VERSION:2.0
PRODID:icalendar-ruby
CALSCALE:GREGORIAN
METHOD:PUBLISH
BEGIN:VEVENT
DTSTAMP:20260422T023338Z
UID:5f3c694f-0e86-467e-a8d2-9eaa13eafd39
DTSTART;VALUE=DATE:20210120
DTEND;VALUE=DATE:20210120
DESCRIPTION:Ed Fountain Park BMX Raceway
LOCATION:1400 N Decatur Blvd  Las Vegas NV 89108 USA
SUMMARY:Clinic
URL:/site/bmx_races/455251
END:VEVENT
END:VCALENDAR
