BEGIN:VCALENDAR
VERSION:2.0
PRODID:icalendar-ruby
CALSCALE:GREGORIAN
METHOD:PUBLISH
BEGIN:VEVENT
DTSTAMP:20260421T234319Z
UID:db491593-7c65-42f2-ab36-47bb10c0caa1
DTSTART;VALUE=DATE:20210325
DTEND;VALUE=DATE:20210325
DESCRIPTION:Ed Fountain Park BMX Raceway
LOCATION:1400 N Decatur Blvd  Las Vegas NV 89108 USA
SUMMARY:Practice
URL:/site/bmx_races/455279
END:VEVENT
END:VCALENDAR
