BEGIN:VCALENDAR
VERSION:2.0
PRODID:icalendar-ruby
CALSCALE:GREGORIAN
METHOD:PUBLISH
BEGIN:VEVENT
DTSTAMP:20260421T221130Z
UID:5a6f4602-1658-4454-917e-bea76a43824c
DTSTART;VALUE=DATE:20210428
DTEND;VALUE=DATE:20210428
DESCRIPTION:Ed Fountain Park BMX Raceway
LOCATION:1400 N Decatur Blvd  Las Vegas NV 89108 USA
SUMMARY:Clinic
URL:/site/bmx_races/455293
END:VEVENT
END:VCALENDAR
