BEGIN:VCALENDAR
VERSION:2.0
PRODID:icalendar-ruby
CALSCALE:GREGORIAN
METHOD:PUBLISH
BEGIN:VEVENT
DTSTAMP:20260423T063523Z
UID:a63fdab2-db98-4e0e-96c8-7e8937c4e952
DTSTART;VALUE=DATE:20210721
DTEND;VALUE=DATE:20210721
DESCRIPTION:Heartland BMX
LOCATION:4801 Sw Shunga Dr  Topeka KS 66614 USA
SUMMARY:Local Race Single
URL:/site/bmx_races/455414
END:VEVENT
END:VCALENDAR
