BEGIN:VCALENDAR
VERSION:2.0
PRODID:icalendar-ruby
CALSCALE:GREGORIAN
METHOD:PUBLISH
BEGIN:VEVENT
DTSTAMP:20260423T055341Z
UID:2196bbbb-3cbd-4720-8750-d1b557776512
DTSTART;VALUE=DATE:20210612
DTEND;VALUE=DATE:20210612
DESCRIPTION:Twin Silo BMX
LOCATION:5400 Ziegler Rd.   Ft Collins CO 80528 USA
SUMMARY:Local Race Single
URL:/site/bmx_races/456196
END:VEVENT
END:VCALENDAR
