BEGIN:VCALENDAR
VERSION:2.0
PRODID:icalendar-ruby
CALSCALE:GREGORIAN
METHOD:PUBLISH
BEGIN:VEVENT
DTSTAMP:20260423T093337Z
UID:3709e6fc-b2b6-43cc-a328-64ac01afa819
DTSTART;VALUE=DATE:20210422
DTEND;VALUE=DATE:20210422
DESCRIPTION:Twin Silo BMX
LOCATION:5400 Ziegler Rd.   Ft Collins CO 80528 USA
SUMMARY:Local Race Single
URL:/site/bmx_races/456224
END:VEVENT
END:VCALENDAR
