BEGIN:VCALENDAR
VERSION:2.0
PRODID:icalendar-ruby
CALSCALE:GREGORIAN
METHOD:PUBLISH
BEGIN:VEVENT
DTSTAMP:20260423T072529Z
UID:8c295dcd-be9e-443d-ade4-ad2c66b57a29
DTSTART;VALUE=DATE:20210527
DTEND;VALUE=DATE:20210527
DESCRIPTION:Twin Silo BMX
LOCATION:5400 Ziegler Rd.   Ft Collins CO 80528 USA
SUMMARY:Local Race Single
URL:/site/bmx_races/456229
END:VEVENT
END:VCALENDAR
