BEGIN:VCALENDAR
VERSION:2.0
PRODID:icalendar-ruby
CALSCALE:GREGORIAN
METHOD:PUBLISH
BEGIN:VEVENT
DTSTAMP:20260423T005429Z
UID:7d27557a-1b07-44f6-b393-aeb92812907e
DTSTART;VALUE=DATE:20210916
DTEND;VALUE=DATE:20210916
DESCRIPTION:Twin Silo BMX
LOCATION:5400 Ziegler Rd.   Ft Collins CO 80528 USA
SUMMARY:Local Race Single
URL:/site/bmx_races/456245
END:VEVENT
END:VCALENDAR
