BEGIN:VCALENDAR
VERSION:2.0
PRODID:icalendar-ruby
CALSCALE:GREGORIAN
METHOD:PUBLISH
BEGIN:VEVENT
DTSTAMP:20260423T055238Z
UID:ffd0db57-ebc9-4355-8944-5f7e6437f765
DTSTART;VALUE=DATE:20210610
DTEND;VALUE=DATE:20210610
DESCRIPTION:Twin Silo BMX
LOCATION:5400 Ziegler Rd.   Ft Collins CO 80528 USA
SUMMARY:Clinic
URL:/site/bmx_races/456257
END:VEVENT
END:VCALENDAR
