BEGIN:VCALENDAR
VERSION:2.0
PRODID:icalendar-ruby
CALSCALE:GREGORIAN
METHOD:PUBLISH
BEGIN:VEVENT
DTSTAMP:20260423T023502Z
UID:91ddecd1-875a-4ef8-ba24-453864aa376d
DTSTART;VALUE=DATE:20210805
DTEND;VALUE=DATE:20210805
DESCRIPTION:Twin Silo BMX
LOCATION:5400 Ziegler Rd.   Ft Collins CO 80528 USA
SUMMARY:Clinic
URL:/site/bmx_races/456263
END:VEVENT
END:VCALENDAR
