BEGIN:VCALENDAR
VERSION:2.0
PRODID:icalendar-ruby
CALSCALE:GREGORIAN
METHOD:PUBLISH
BEGIN:VEVENT
DTSTAMP:20260422T184023Z
UID:b0516cd5-0cb7-4269-8a80-cef362185858
DTSTART;VALUE=DATE:20210112
DTEND;VALUE=DATE:20210112
DESCRIPTION:Circle City BMX
LOCATION:Westgate Park    100 Recreation Rd Dothan AL 36305 USA
SUMMARY:Practice
URL:/site/bmx_races/457243
END:VEVENT
END:VCALENDAR
