BEGIN:VCALENDAR
VERSION:2.0
PRODID:icalendar-ruby
CALSCALE:GREGORIAN
METHOD:PUBLISH
BEGIN:VEVENT
DTSTAMP:20260422T184028Z
UID:fb18e745-8ab6-4b99-8870-bc97d3a60b09
DTSTART;VALUE=DATE:20210121
DTEND;VALUE=DATE:20210121
DESCRIPTION:Circle City BMX
LOCATION:Westgate Park    100 Recreation Rd Dothan AL 36305 USA
SUMMARY:Local Race Single
URL:/site/bmx_races/457247
END:VEVENT
END:VCALENDAR
