BEGIN:VCALENDAR
VERSION:2.0
PRODID:icalendar-ruby
CALSCALE:GREGORIAN
METHOD:PUBLISH
BEGIN:VEVENT
DTSTAMP:20260422T164925Z
UID:ddd466f1-4240-4369-b74d-d26ac51db07d
DTSTART;VALUE=DATE:20210221
DTEND;VALUE=DATE:20210221
DESCRIPTION:Circle City BMX
LOCATION:Westgate Park    100 Recreation Rd Dothan AL 36305 USA
SUMMARY:Local Race Single
URL:/site/bmx_races/457260
END:VEVENT
END:VCALENDAR
