BEGIN:VCALENDAR
VERSION:2.0
PRODID:icalendar-ruby
CALSCALE:GREGORIAN
METHOD:PUBLISH
BEGIN:VEVENT
DTSTAMP:20260422T150446Z
UID:1a3e202c-d12a-4764-b6ff-9e3805aced37
DTSTART;VALUE=DATE:20210321
DTEND;VALUE=DATE:20210321
DESCRIPTION:Circle City BMX
LOCATION:Westgate Park    100 Recreation Rd Dothan AL 36305 USA
SUMMARY:Local Race Single
URL:/site/bmx_races/457272
END:VEVENT
END:VCALENDAR
