BEGIN:VCALENDAR
VERSION:2.0
PRODID:icalendar-ruby
CALSCALE:GREGORIAN
METHOD:PUBLISH
BEGIN:VEVENT
DTSTAMP:20260422T133420Z
UID:210b5086-74d2-4545-9fb0-879fa7aebde7
DTSTART;VALUE=DATE:20210404
DTEND;VALUE=DATE:20210404
DESCRIPTION:Circle City BMX
LOCATION:Westgate Park    100 Recreation Rd Dothan AL 36305 USA
SUMMARY:Local Race Single
URL:/site/bmx_races/457278
END:VEVENT
END:VCALENDAR
