BEGIN:VCALENDAR
VERSION:2.0
PRODID:icalendar-ruby
CALSCALE:GREGORIAN
METHOD:PUBLISH
BEGIN:VEVENT
DTSTAMP:20260422T102702Z
UID:cc3c148a-b5ff-48a8-81f5-47c451e0990e
DTSTART;VALUE=DATE:20210601
DTEND;VALUE=DATE:20210601
DESCRIPTION:Circle City BMX
LOCATION:Westgate Park    100 Recreation Rd Dothan AL 36305 USA
SUMMARY:Practice
URL:/site/bmx_races/457303
END:VEVENT
END:VCALENDAR
