BEGIN:VCALENDAR
VERSION:2.0
PRODID:icalendar-ruby
CALSCALE:GREGORIAN
METHOD:PUBLISH
BEGIN:VEVENT
DTSTAMP:20260422T084037Z
UID:9cf7b21d-1ed1-469b-be74-edc11c560240
DTSTART;VALUE=DATE:20210701
DTEND;VALUE=DATE:20210701
DESCRIPTION:Circle City BMX
LOCATION:Westgate Park    100 Recreation Rd Dothan AL 36305 USA
SUMMARY:Local Race Single
URL:/site/bmx_races/457316
END:VEVENT
END:VCALENDAR
